

BEGIN:VCALENDAR
VERSION:2.0
PRODID:-//hacksw/handcal//NONSGML v1.0//EN
CALSCALE:GREGORIAN
BEGIN:VEVENT
DTEND:20190307T150000
UID:5c756c320eee3
DTSTAMP:20190227T034122
LOCATION:Hobart Function Centre 1 Elizabeth Street Hobart 7000 TAS
DESCRIPTION:Tasmania&rsquo\;s Place in the World
As an island economy\, what challenges and opportunities lie ahead? Why should Tasmania be the battery of the nation? What impact would a downturn in China have?
Join the Tasmanian Branch of the Economic Society of Australia for its annual Tasmanian Economic Forum\, as experts and influencers tackle these and other issues:
&nbsp\;
Saul Eslake
Independent economist and Vice-Chancellor&rsquo\;s Fellow\, University of Tasmania&nbsp\;
Emma Richardson
Economist and Manager\, Deloitte Access Economics&nbsp\;
Kirsha Kaechele
Artist and curator\, MONA
Andrew Catchpole
Director\, Strategy &amp\; Market Development\, Hydro Tasmania
Gary McCarthy
Senior Business Development Manager\, TasPorts
Mark Bowles
General Manager\, Business and Trade Tasmania\, Department of State Growth
&nbsp\;
&nbsp\;
When: 7th&nbsp\;March 2019\,&nbsp\;9:30am &ndash\; 3pm (registrations open 9am)
Where: Hobart Function Centre\, 1 Elizabeth Street Hobart
&nbsp\;



&nbsp\;
ESA members
Non-members
Table of 8 (single transaction)


Earlybird to&nbsp\;8 Feb 19
$90
$140
$720


Regular to 28 Feb 19
$100
$150
$800


From 28 Feb 19
$110
$160
$880



Registration includes two course lunch\, morning tea and welcome tea/coffee
&nbsp\;&nbsp\;
&nbsp\;
&nbsp\;
&nbsp\;



&nbsp\; &nbsp\; &nbsp\;&nbsp\;
&nbsp\; &nbsp\; &nbsp\;&nbsp\;&nbsp\;
&nbsp\; &nbsp\; &nbsp\; &nbsp\;&nbsp\;



&nbsp\;
&nbsp\;
URL;VALUE=URI:http://esatas.org.au/event/37443
SUMMARY:2019 Tasmanian Economic Forum
DTSTART:20190307T090000
END:VEVENT
END:VCALENDAR

