

BEGIN:VCALENDAR
VERSION:2.0
PRODID:-//hacksw/handcal//NONSGML v1.0//EN
CALSCALE:GREGORIAN
BEGIN:VEVENT
DTEND:20140530T123000
UID:5c794486f196d
DTSTAMP:20190302T014110
LOCATION:Room 511\, Commerce Building\, University of Tasmania French Street Sandybay 7005 TAS
DESCRIPTION:Economics and Finance hosts a Research Seminar on Fridays\, starting at 11:00am (unless otherwise noted on the schedule below). All university staff and other researchers are welcome to attend.

If you would like to participate or require further information please feel free to contact the Seminar Coordinator\, Dr. Jing Tian.

See http://www.utas.edu.au/business-and-economics/research/research-seminars/seminar-series for a list of presenters and topics.

Venue: Commerce Room 511 Level 5\, Commerce Building - view Hobart Campus Map (PDF 348.1KB) (unless otherwise noted).
view Launceston Campus Map (PDF 308KB)
URL;VALUE=URI:http://esatas.org.au/event/15500
SUMMARY:UTAS Economics And Finance Research Seminar Series
DTSTART:20140530T110000
END:VEVENT
END:VCALENDAR

