

BEGIN:VCALENDAR
VERSION:2.0
PRODID:-//hacksw/handcal//NONSGML v1.0//EN
CALSCALE:GREGORIAN
BEGIN:VEVENT
DTEND:20140520T170000
UID:5c794727593ab
DTSTAMP:20190302T015223
LOCATION:Commerce Conference Room 223 French Street Sandybay 7005 TAS
DESCRIPTION:Economics and Finance organises a series of workshops on Monday at 11:00- 12:00 pm (unless otherwise noted on the schedule below) in Semester 2\, 2013. All university staff and other researchers are welcome to attend.

If you would like to participate or require further information please feel free to contact the Seminar Coordinator\, Dr. Jing Tian.

See http://www.utas.edu.au/business-and-economics/research/research-seminars/coffee-mug-workshops for a list of scheduled presenters and topics.

Venue: Commerce Conference Room 223 Level 2\, Commerce Building - view Hobart Campus Map (PDF 348.1KB) (unless otherwise noted).
URL;VALUE=URI:http://esatas.org.au/event/15512
SUMMARY:UTAS Coffee Mug Workshops
DTSTART:20140520T160000
END:VEVENT
END:VCALENDAR

