

BEGIN:VCALENDAR
VERSION:2.0
PRODID:-//hacksw/handcal//NONSGML v1.0//EN
CALSCALE:GREGORIAN
BEGIN:VEVENT
DTEND:20140703T210000
UID:5c794472d031a
DTSTAMP:20190302T014050
LOCATION:0    
DESCRIPTION:As part of the Eminent Speaker Series 2014\, Professor Stiglitz will be presenting to ESAM/ACE2014 attendees\, following by dinner.

For further information please contact the ESAM/ACE 2014 conference organiser\, Helene:

Telephone: 61 3 6234 7844
Facsimile: 61 3 6234 5958
For conference enquiries:
Email: helene@leishman-associates.com.au
URL;VALUE=URI:http://esatas.org.au/event/15515
SUMMARY:ESS: Keynote Address: TAS Branch
DTSTART:20140703T174500
END:VEVENT
END:VCALENDAR

