

BEGIN:VCALENDAR
VERSION:2.0
PRODID:-//hacksw/handcal//NONSGML v1.0//EN
CALSCALE:GREGORIAN
BEGIN:VEVENT
DTEND:20140925T183000
UID:5c79446a835d6
DTSTAMP:20190302T014042
LOCATION:Murray Room\, Department of Treasury and Finance 21 Murray Street Hobart 7000 TAS
DESCRIPTION:&nbsp\;

Our next event will be held next Thursday\, 25 September 2014 and will feature Anton Voss\, Deputy Secretary\, Economic and Finance Division\, Department of Treasury and Finance speaking on Chapter 2 of Budget Paper No 1\, The Tasmanian Economy.

Full details of this event can be found on the attached flyer. Please RSVP to admin@esatas.org.au or (03) 6166 4152 by midday Thursday 25 September 2014 to ensure appropriate seating.
URL;VALUE=URI:http://esatas.org.au/event/15516
SUMMARY:Upcoming event - The Tasmanian Economy\, 2014-15 State Budget
DTSTART:20140925T170000
END:VEVENT
END:VCALENDAR

