

BEGIN:VCALENDAR
VERSION:2.0
PRODID:-//hacksw/handcal//NONSGML v1.0//EN
CALSCALE:GREGORIAN
BEGIN:VEVENT
DTEND:20141028T143000
UID:5c79446342160
DTSTAMP:20190302T014035
LOCATION:Hobart Function and Conference Centre 1 Elizabeth Street Pier Hobart 7000 TAS
DESCRIPTION:The Tasmania Policy Forum will be held on Tuesday 28 October 2014. The Tasmania Policy Forum brings together leaders from academia\, public policy and taxation practice to discuss options for tax and budget reform in Tasmania. The schedule of speakers for the forum can be found in the attached flyer.
 Register online – https://tasmaniapolicyforum.eventbrite.com.au
&nbsp\;
URL;VALUE=URI:http://esatas.org.au/event/15517
SUMMARY:Tasmanian Policy Forum
DTSTART:20141028T090000
END:VEVENT
END:VCALENDAR

