

BEGIN:VCALENDAR
VERSION:2.0
PRODID:-//hacksw/handcal//NONSGML v1.0//EN
CALSCALE:GREGORIAN
BEGIN:VEVENT
DTEND:20141120T180000
UID:5c79445be5bb0
DTSTAMP:20190302T014027
LOCATION:Stanley Burbury Theatre Sandy Bay Campus Hobart  
DESCRIPTION:The Australian Labour Market: The More Things Change...

2014 Giblin Lecture presented by Professor Jeff Borland

&nbsp\;

When: 6:00pm\, Thursday 20 November

Where: Stanley Burbury Theatre\, Sandy Bay Campus

Register: www.events.utas.edu.au or 6226 2521

For more information\, please see the attached flyer.
URL;VALUE=URI:http://esatas.org.au/event/15518
SUMMARY:2014 Giblin Lecture
DTSTART:20141120T180000
END:VEVENT
END:VCALENDAR

