

BEGIN:VCALENDAR
VERSION:2.0
PRODID:-//hacksw/handcal//NONSGML v1.0//EN
CALSCALE:GREGORIAN
BEGIN:VEVENT
DTEND:20150210T190000
UID:5c79445486ed2
DTSTAMP:20190302T014020
LOCATION:Lecture Theatre 115\, Menzies Research Institute 17 Liverpool Street Hobart  Tasmania
DESCRIPTION:Our next event will be held on Tuesday\, 10 February 2015 and will feature a conversation with the Treasurer\, the Hon Peter Gutwein MP\, led by Professor Richard Eccleston.

Full details of this event can be found on the attached flyer.

&nbsp\;

&nbsp\;
URL;VALUE=URI:http://esatas.org.au/event/15519
SUMMARY:A conversation with the Treasurer
DTSTART:20150210T171500
END:VEVENT
END:VCALENDAR

