

BEGIN:VCALENDAR
VERSION:2.0
PRODID:-//hacksw/handcal//NONSGML v1.0//EN
CALSCALE:GREGORIAN
BEGIN:VEVENT
DTEND:20150717T220000
UID:5c79438f7845b
DTSTAMP:20190302T013703
LOCATION:Astor Grill 157 Macquarie Street Hobart  
DESCRIPTION:Our Annual General
Meeting will be held on Friday 17 July 2015 at the Astor Grill. Our speaker for
the evening will be Dr Richard Denniss.

Tickets can be purchased via Eventbrite:

https://esatasagm2014-15.eventbrite.com.au

Non-members are also welcome to attend.

Please note the date change.
URL;VALUE=URI:http://esatas.org.au/event/15521
SUMMARY:Economic Society - Tasmania Branch - 2015 AGM
DTSTART:20150717T180000
END:VEVENT
END:VCALENDAR

