

BEGIN:VCALENDAR
VERSION:2.0
PRODID:-//hacksw/handcal//NONSGML v1.0//EN
CALSCALE:GREGORIAN
BEGIN:VEVENT
DTEND:20151016T163000
UID:5c794382393be
DTSTAMP:20190302T013650
LOCATION:Hobart Function and Conference Centre 1 Elizabeth Street Pier Hobart 7000 TAS
DESCRIPTION:The Tasmania Economic Forum will be held on Friday\, 16 October 2015.

The topic for this year is "Tasmania's health system: healthy or
headache?".

The Forum brings together leaders from academia\, public policy and the
health system to discuss economic issues in the health sector. Register now via
eventbrite for this important event:

http://healtheconomicsforum.eventbrite.com.au

This event is being jointly hosted with the Australasian College of Health
Service Management.

Further information can be found in the flyer.
URL;VALUE=URI:http://esatas.org.au/event/15524
SUMMARY:2015 Tasmanian Economic Forum - Tasmania's health system: healthy or headache?
DTSTART:20151016T090000
END:VEVENT
END:VCALENDAR

