

BEGIN:VCALENDAR
VERSION:2.0
PRODID:-//hacksw/handcal//NONSGML v1.0//EN
CALSCALE:GREGORIAN
BEGIN:VEVENT
DTEND:20151113T190000
UID:5c79437c69848
DTSTAMP:20190302T013644
LOCATION:Fullers Bookshop 131 Collins Street Hobart  
DESCRIPTION:The Economic Society is pleased to invite you to the Hobart launch of The Luck of Politics\, the latest book by Andrew Leigh MP\, Shadow Assistant Treasurer. The event will be held on Friday 13 November. Further details and a link to where to register can be found in this flyer.
URL;VALUE=URI:http://esatas.org.au/event/15525
SUMMARY:Book Launch: Andrew Leigh's The Luck of Politics
DTSTART:20151113T180000
END:VEVENT
END:VCALENDAR

