

BEGIN:VCALENDAR
VERSION:2.0
PRODID:-//hacksw/handcal//NONSGML v1.0//EN
CALSCALE:GREGORIAN
BEGIN:VEVENT
DTEND:20160223T183000
UID:60358743c6d68
DTSTAMP:20210224T095251
LOCATION:Murray Room\, Treasury Building 21 Murray Street  Hobart 7000 TAS
DESCRIPTION:
URL;VALUE=URI:http://esatas.org.au/event/17643
SUMMARY:Current Economic Conditions - Tom Rosewall - Reserve Bank of Australia 
DTSTART:20160223T170000
END:VEVENT
END:VCALENDAR

