

BEGIN:VCALENDAR
VERSION:2.0
PRODID:-//hacksw/handcal//NONSGML v1.0//EN
CALSCALE:GREGORIAN
BEGIN:VEVENT
DTEND:20160331T183000
UID:60358365514c1
DTSTAMP:20210224T093621
LOCATION:Centenary Lecture Theatre University of Tasmania Sandy Bay 7005 TAS
DESCRIPTION:VENUE CHANGE: Please note that the venue has changed to the Centenary Lecture Theatre.
Join the Tasmanian Branch of the Economic Society of Australia for a presentation from Philip Harrington.
Light refreshments will be served after Philip&rsquo\;s talk. RSVPs by 30 March 2016 are essential.
For more information\, please see the flyer.
URL;VALUE=URI:http://esatas.org.au/event/17988
SUMMARY:Energy Security in Tasmania - Philip Harrington
DTSTART:20160331T173000
END:VEVENT
END:VCALENDAR

