

BEGIN:VCALENDAR
VERSION:2.0
PRODID:-//hacksw/handcal//NONSGML v1.0//EN
CALSCALE:GREGORIAN
BEGIN:VEVENT
DTEND:20160518T203000
UID:60358375d4148
DTSTAMP:20210224T093637
LOCATION:Astor Grill 157 Macquarie Street Hobart 7000 TAS
DESCRIPTION:The 2016 Annual General Meeting of the Tasmanian Branch of the Economic Society will be held Wednesday 18 May 2016 at the Astor Grill.
&nbsp\;
Our speaker for the event will be Martin Wallace\, speaking on the topic of "thoughts on Tasmanian Economic Policy and Other Matters". Martin is a former Secretary of the Department of Treasury and Finance and\, in a diverse public sector career\, has worked in the areas of energy\, telecommunications and health and human services.
&nbsp\;
For more information and RSVP details\, please see the attached flyer.
URL;VALUE=URI:http://esatas.org.au/event/18933
SUMMARY:Annual General Meeting with Martin Wallace
DTSTART:20160518T180000
END:VEVENT
END:VCALENDAR

