

BEGIN:VCALENDAR
VERSION:2.0
PRODID:-//hacksw/handcal//NONSGML v1.0//EN
CALSCALE:GREGORIAN
BEGIN:VEVENT
DTEND:20160616T190000
UID:603587484a109
DTSTAMP:20210224T095256
LOCATION:Murray Room 21 Murray Street Hobart 7171 TAS
DESCRIPTION:For more information\, please see the attached flyer.
URL;VALUE=URI:http://esatas.org.au/event/19379
SUMMARY:Tasmanian Budget 2016-17 with Anton Voss
DTSTART:20160616T171500
END:VEVENT
END:VCALENDAR

