

BEGIN:VCALENDAR
VERSION:2.0
PRODID:-//hacksw/handcal//NONSGML v1.0//EN
CALSCALE:GREGORIAN
BEGIN:VEVENT
DTEND:20200528T200000
UID:603587295a028
DTSTAMP:20210224T095225
LOCATION:Zoom Zoom Hobart 7000 TAS
DESCRIPTION:Please join the Tasmanian Branch of the Economic Society for an event presented by Elisavet&nbsp\;(Lizy)&nbsp\;Spanou titled 'Valuing marine and coastal&nbsp\;ecosystem services'.
Elisavet&nbsp\;is an early career researcher working in Resource Economics\, with a background in Biology and Ecology. She is presenting a choice experiment conducted in south-eastern Tasmania which investigated the value of marine and coastal ecosystem services in and around the Derwent estuary and Storm Bay. The selection of ecosystem services to be valued in the choice experiment was informed by previous qualitative work in the area\, as well as an application of participatory GIS focussing on recreational activities and the perception of ecosystem services. The aim of her research is to identify the values held by society\, and investigate how they trade off against one another in order to inform decision-making.
When: Thursday 28th May\, 7:00pm - 8:00pm
Where: Via Zoom (the link will be emailed to you after registration)
URL;VALUE=URI:http://esatas.org.au/event/42518
SUMMARY:Valuing Marine and Coastal Ecosystem Services - ONLINE ONLY
DTSTART:20200528T190000
END:VEVENT
END:VCALENDAR

